Workbook
Name acceptable_use_policy: Disclaimer!#REF!
Name general_tc: Disclaimer!$A$61
Name privacy_policy: Disclaimer!$A$136

Sheet Introduction
F5: Harmonised Transparency Template
F7: France
F8: Caisse Française de Financement Local
F9: Reporting Date: 14/11/16
F10: Cut-off Date: 30/09/16
F22: Index
D24: Worksheet A: HTT General | E24: Tab 1: Harmonised Transparency Template
D26: Worksheet B1: HTT Mortgage Assets
D28: Worksheet B2: HTT Public Sector Assets | E28: Tab 1: Harmonised Transparency Template
D30: Worksheet B3: HTT Shipping Assets | E30: Tab 1: Harmonised Transparency Template
D32: Worksheet C: HTT Harmonised Glossary | E32: Tab 1: Harmonised Transparency Template
D34: Covered Bond Label Disclaimer | E34: Tab 1: Harmonised Transparency Template
D36: Worksheet D & Onwards (If Any): National Transparency Template

Sheet A. HTT General
A1: A. Harmonised Transparency Template - General Information
B3: Reporting in Domestic Currency | C3: EUR
B5: CONTENT OF TAB A
B6: 1. Basic Facts
B7: 2. Regulatory Summary
B8: 3. General Cover Pool / Covered Bond Information | F8: `
B9: 4. References to Capital Requirements Regulation (CRR) 129(7)
B10: 5. References to Capital Requirements Regulation (CRR) 129(1)
B11: 6. Other relevant information
A13: Field Number | B13: 1. Basic Facts
A14: G.1.1.1 | B14: Country | C14: France
A15: G.1.1.2 | B15: Issuer Name | C15: Caisse Française de Financement Local
A16: G.1.1.3 | B16: Link to Issuer's Website | C16: www.caffil.fr
A17: G.1.1.4 | B17: Cut-off date | C17: 9/30/2016
A18: OG.1.1.1 | B18: Optional information e.g. Contact names
A19: OG.1.1.2 | B19: Optional information e.g. Parent name
A20: OG.1.1.3
A21: OG.1.1.4
A22: OG.1.1.5
A23: OG.1.1.6
A24: OG.1.1.7
A25: OG.1.1.8
B26: 2. Regulatory Summary
A27: G.2.1.1 | B27: UCITS Compliance (Y/N) | C27: Y
A28: G.2.1.2 | B28: CRR Compliance (Y/N) | C28: Y
A29: G.2.1.3 | B29: LCR status | C29: https://www.coveredbondlabel.com/issuer/47/
A30: OG.2.1.1
A31: OG.2.1.2
A32: OG.2.1.3
A33: OG.2.1.4
A34: OG.2.1.5
A35: OG.2.1.6
B36: 3. General Cover Pool / Covered Bond Information
B37: 1.General Information | C37: Nominal (mn)
A38: G.3.1.1 | B38: Total Cover Assets | C38: 58856.943
A39: G.3.1.2 | B39: Outstanding Covered Bonds | C39: 51054.691
A40: OG.3.1.1 | B40: Cover Pool Size [NPV] (mn) | C40: ND1
A41: OG.3.1.2 | B41: Outstanding Covered Bonds [NPV] (mn) | C41: ND1
A42: OG.3.1.3
A43: OG.3.1.4
...

Sheet B1. HTT Mortgage Assets
A1: B1. Harmonised Transparency Template - Mortgage Assets | F1: Legend
B3: Reporting in Domestic Currency | C3: [Please insert currency]
B5: CONTENT OF TAB B1
B6: 7. Mortgage Assets
B7: 7.A Residential Cover Pool
B8: 7.B Commercial Cover Pool
A10: Field Number | B10: 7. Mortgage Assets
B11: 1. Property Type Information | C11: Nominal (mn) | F11: % Total Mortgages
A12: M.7.1.1 | B12: Residential | C12: [For completion] | F12: =IF($C$15=0,"",IF(C12="[for completion]","",C12/$C$15))
A13: M.7.1.2 | B13: Commercial | C13: [For completion] | F13: =IF($C$15=0,"",IF(C13="[for completion]","",C13/$C$15))
A14: M.7.1.3 | B14: Other | C14: [For completion] | F14: =IF($C$15=0,"",IF(C14="[for completion]","",C14/$C$15))
A15: M.7.1.4 | B15: Total | C15: =SUM(C12:C14) -> 0 | F15: =SUM(F12:F14) -> 0
A16: OM.7.1.1 | B16: o/w Housing Cooperatives / Multi-family assets | F16: =IF($C$15=0,"",IF(C16="[for completion]","",C16/$C$15))
A17: OM.7.1.2 | B17: o/w Forest & Agriculture | F17: =IF($C$15=0,"",IF(C17="[for completion]","",C17/$C$15))
A18: OM.7.1.3 | B18: o/w [If relevant, please specify] | F18: =IF($C$15=0,"",IF(C18="[for completion]","",C18/$C$15))
A19: OM.7.1.4 | B19: o/w [If relevant, please specify] | F19: =IF($C$15=0,"",IF(C19="[for completion]","",C19/$C$15))
A20: OM.7.1.5 | B20: o/w [If relevant, please specify] | F20: =IF($C$15=0,"",IF(C20="[for completion]","",C20/$C$15))
A21: OM.7.1.6 | B21: o/w [If relevant, please specify] | F21: =IF($C$15=0,"",IF(C21="[for completion]","",C21/$C$15))
A22: OM.7.1.7 | B22: o/w [If relevant, please specify] | F22: =IF($C$15=0,"",IF(C22="[for completion]","",C22/$C$15))
A23: OM.7.1.8 | B23: o/w [If relevant, please specify] | F23: =IF($C$15=0,"",IF(C23="[for completion]","",C23/$C$15))
A24: OM.7.1.9 | B24: o/w [If relevant, please specify] | F24: =IF($C$15=0,"",IF(C24="[for completion]","",C24/$C$15))
A25: OM.7.1.10 | B25: o/w [If relevant, please specify] | F25: =IF($C$15=0,"",IF(C25="[for completion]","",C25/$C$15))
A26: OM.7.1.11 | B26: o/w [If relevant, please specify] | F26: =IF($C$15=0,"",IF(C26="[for completion]","",C26/$C$15))
B27: 2. General Information | C27: Residential Loans | D27: Commercial Loans | F27: Total Mortgages
A28: M.7.2.1 | B28: Number of mortgage loans | C28: [For completion] | D28: [For completion] | F28: [For completion]
A29: OM.7.2.1 | B29: Optional information eg, Number of borrowers
A30: OM.7.2.2 | B30: Optional information eg, Number of guarantors
A31: OM.7.2.3
A32: OM.7.2.4
A33: OM.7.2.5
A34: OM.7.2.6
B35: 3. Concentration Risks | C35: % Residential Loans | D35: % Commercial Loans | F35: % Total Mortgages
A36: M.7.3.1 | B36: 10 largest exposures | C36: [For completion] | D36: [For completion] | F36: [For completion]
A37: OM.7.3.1
A38: OM.7.3.2
A39: OM.7.3.3
A40: OM.7.3.4
A41: OM.7.3.5
A42: OM.7.3.6
B43: 4. Breakdown by Geography | C43: % Residential Loans | D43: % Commercial Loans | F43: % Total Mortgages
...

Sheet B2. HTT Public Sector Assets
A1: B2. Harmonised Transparency Template - Public Sector Assets
B3: Reporting in Domestic Currency | C3: EUR
B5: CONTENT OF TAB B2
B6: 8. Public Sector Assets
A8: Field Number | B8: 8. Public Sector Assets
B9: 1. General Information
A10: PS.8.1.1 | B10: Number of public sector exposures | C10: 49346
A11: OPS.8.1.1 | B11: Optional information eg, Number of borrowers
A12: OPS.8.1.2 | B12: Optional information eg, Number of guarantors
A13: OPS.8.1.3
A14: OPS.8.1.4
A15: OPS.8.1.5
A16: OPS.8.1.6
A17: OPS.8.1.7
B18: 2. Size Information | C18: Nominal | D18: Number of Exposures | F18: % Public Sector Assets | G18: % No. of Exposures
A19: PS.8.2.1 | B19: Average exposure size (000s) | C19: 1103177.1
B21: By buckets (mn):
A22: PS.8.2.2 | B22: 0-500k€ | C22: 4558.1208 | D22: 36693 | F22: =IF($C$37=0,"",IF(C22="[for completion]","",C22/$C$37)) -> 0.083731459 | G22: =IF($D$37=0,"",IF(D22="[for completion]","",D22/$D$37)) -> 0.74358611
A23: PS.8.2.3 | B23: 500-1M€ | C23: 2963.9986 | D23: 4165 | F23: =IF($C$37=0,"",IF(C23="[for completion]","",C23/$C$37)) -> 0.05444786 | G23: =IF($D$37=0,"",IF(D23="[for completion]","",D23/$D$37)) -> 0.084404004
A24: PS.8.2.4 | B24: 1M-5M€ | C24: 14765.274 | D24: 6448 | F24: =IF($C$37=0,"",IF(C24="[for completion]","",C24/$C$37)) -> 0.27123412 | G24: =IF($D$37=0,"",IF(D24="[for completion]","",D24/$D$37)) -> 0.13066915
A25: PS.8.2.5 | B25: 5M-10M€ | C25: 8224.9526 | D25: 1163 | F25: =IF($C$37=0,"",IF(C25="[for completion]","",C25/$C$37)) -> 0.15109018 | G25: =IF($D$37=0,"",IF(D25="[for completion]","",D25/$D$37)) -> 0.023568273
A26: PS.8.2.6 | B26: 10M-50M€ | C26: 15119.19 | D26: 793 | F26: =IF($C$37=0,"",IF(C26="[for completion]","",C26/$C$37)) -> 0.27773547 | G26: =IF($D$37=0,"",IF(D26="[for completion]","",D26/$D$37)) -> 0.016070198
A27: PS.8.2.7 | B27: 50M-100M€ | C27: 3959.4124 | D27: 58 | F27: =IF($C$37=0,"",IF(C27="[for completion]","",C27/$C$37)) -> 0.072733346 | G27: =IF($D$37=0,"",IF(D27="[for completion]","",D27/$D$37)) -> 0.0011753739
A28: PS.8.2.8 | B28: >100M€ | C28: 4846.427 | D28: 26 | F28: =IF($C$37=0,"",IF(C28="[for completion]","",C28/$C$37)) -> 0.089027566 | G28: =IF($D$37=0,"",IF(D28="[for completion]","",D28/$D$37)) -> 0.00052689174
A29: PS.8.2.9 | B29: TBC at a country level | C29: [For completion] | D29: [For completion] | F29: =IF($C$37=0,"",IF(C29="[for completion]","",C29/$C$37)) | G29: =IF($D$37=0,"",IF(D29="[for completion]","",D29/$D$37))
A30: PS.8.2.10 | B30: TBC at a country level | C30: [For completion] | D30: [For completion] | F30: =IF($C$37=0,"",IF(C30="[for completion]","",C30/$C$37)) | G30: =IF($D$37=0,"",IF(D30="[for completion]","",D30/$D$37))
A31: PS.8.2.11 | B31: TBC at a country level | C31: [For completion] | D31: [For completion] | F31: =IF($C$37=0,"",IF(C31="[for completion]","",C31/$C$37)) | G31: =IF($D$37=0,"",IF(D31="[for completion]","",D31/$D$37))
A32: PS.8.2.12 | B32: TBC at a country level | C32: [For completion] | D32: [For completion] | F32: =IF($C$37=0,"",IF(C32="[for completion]","",C32/$C$37)) | G32: =IF($D$37=0,"",IF(D32="[for completion]","",D32/$D$37))
A33: PS.8.2.13 | B33: TBC at a country level | C33: [For completion] | D33: [For completion] | F33: =IF($C$37=0,"",IF(C33="[for completion]","",C33/$C$37)) | G33: =IF($D$37=0,"",IF(D33="[for completion]","",D33/$D$37))
A34: PS.8.2.14 | B34: TBC at a country level | C34: [For completion] | D34: [For completion] | F34: =IF($C$37=0,"",IF(C34="[for completion]","",C34/$C$37)) | G34: =IF($D$37=0,"",IF(D34="[for completion]","",D34/$D$37))
A35: PS.8.2.15 | B35: TBC at a country level | C35: [For completion] | D35: [For completion] | F35: =IF($C$37=0,"",IF(C35="[for completion]","",C35/$C$37)) | G35: =IF($D$37=0,"",IF(D35="[for completion]","",D35/$D$37))
A36: PS.8.2.16 | B36: TBC at a country level | C36: [For completion] | D36: [For completion] | F36: =IF($C$37=0,"",IF(C36="[for completion]","",C36/$C$37)) | G36: =IF($D$37=0,"",IF(D36="[for completion]","",D36/$D$37))
A37: PS.8.2.17 | B37: Total | C37: =SUM(C22:C36) -> 54437.375 | D37: =SUM(D22:D36) -> 49346 | F37: =SUM(F22:F36) -> 1 | G37: =SUM(G22:G36) -> 1
B38: 3. Breakdown by Asset Type | C38: Nominal (mn) | F38: % Public Sector Assets
A39: PS.8.3.1 | B39: Loans | C39: 47553.334 | F39: =IF($C$42=0,"",IF(C39="[for completion]","",C39/$C$42)) -> 0.87354201
A40: PS.8.3.2 | B40: Bonds | C40: 6884.041 | F40: =IF($C$42=0,"",IF(C40="[for completion]","",C40/$C$42)) -> 0.12645799
A41: PS.8.3.3 | B41: Other | C41: 0 | F41: =IF($C$42=0,"",IF(C41="[for completion]","",C41/$C$42)) -> 0
A42: PS.8.3.4 | B42: Total | C42: =SUM(C39:C41) -> 54437.375 | F42: =SUM(F39:F41) -> 1
A43: OPS.8.3.1
A44: OPS.8.3.2
...

Sheet B3. HTT Shipping Assets
A1: B3. Harmonised Transparency Template - Shipping Assets
B3: Reporting in Domestic Currency | C3: [Please insert currency]
B5: CONTENT OF TAB B3
B6: 9. Shipping Assets
A8: Field Number | B8: 9. Shipping Assets
B9: 1. General Information | C9: Shipping Loans
A10: S.9.1.1 | B10: Number of shipping loans | C10: [For completion]
A11: OS.9.1.1 | B11: Optional information eg, Number of borrowers
A12: OS.9.1.2 | B12: Optional information eg, Number of guarantors
A13: OS.9.1.3
A14: OS.9.1.4
A15: OS.9.1.5
A16: OS.9.1.6
B17: 2. Concentration Risks | C17: % Shipping Loans
A18: S.9.2.1 | B18: 10 largest exposures | C18: [For completion]
A19: OS.9.2.1
A20: OS.9.2.2
A21: OS.9.2.3
A22: OS.9.2.4
A23: OS.9.2.5
A24: OS.9.2.6
B25: 3. Breakdown by Geography / Country of Registration | C25: % Shipping Loans
A26: S.9.3.1 | B26: European Union | C26: =SUM(C27:C54) -> 0
A27: S.9.3.2 | B27: Austria | C27: [For completion]
A28: S.9.3.3 | B28: Belgium | C28: [For completion]
A29: S.9.3.4 | B29: Bulgaria | C29: [For completion]
A30: S.9.3.5 | B30: Croatia | C30: [For completion]
A31: S.9.3.6 | B31: Cyprus | C31: [For completion]
A32: S.9.3.7 | B32: Czech Republic | C32: [For completion]
A33: S.9.3.8 | B33: Denmark | C33: [For completion]
A34: S.9.3.9 | B34: Estonia | C34: [For completion]
A35: S.9.3.10 | B35: Finland | C35: [For completion]
A36: S.9.3.11 | B36: France | C36: [For completion]
A37: S.9.3.12 | B37: Germany | C37: [For completion]
A38: S.9.3.13 | B38: Greece | C38: [For completion]
... A54: S.9.3.29 | B54: United Kingdom | C54: [For completion]
A55: S.9.3.30 | B55: European Economic Area (not member of EU) | C55: =SUM(C56:C58) -> 0
A56: S.9.3.31 | B56: Iceland | C56: [For completion]
A57: S.9.3.32 | B57: Liechtenstein | C57: [For completion]
A58: S.9.3.33 | B58: Norway | C58: [For completion]
...

Sheet C. HTT Harmonised Glossary
A1: C. Harmonised Transparency Template - Glossary
A3: The definitions below reflect the national specificities
A5: Field Number | B5: 1. Glossary - Standard Harmonised Items | C5: [Insert Definition Below]
A6: HG.1.1 | B6: OC Calculation: Actual | C6: G.3.2.1 - Caisse Française de Financement Local presents its nominal over-collateralization which is the ratio between the assets and the resources benefiting from the legal privilege.
A7: HG.1.2 | B7: OC Calculation: Legal minimum | C7: G.3.2.1 - The legal over-collateralization ratio, which is calculated on the basis of regulatory standards governing sociétés de crédit foncier, is the ratio between the assets and the resources benefiting from the legal privilege. This legal minimum threshold is set at 105 %.
A8: HG.1.3 | B8: OC Calculation: Committed | C8: G.3.2.1 - Caisse Française de Financement Local presents the legal minimum threshold set at 105 %. It corresponds to the minimum level which Caisse Française de Financement Local had undertaken to maintain since its creation.
A9: HG.1.4 | B9: Interest Rate Types | C9: PS.8.6.3 - The item "other" are reported the assets with a structured interest rate.
A10: HG.1.5 | B10: Maturity Buckets of Cover assets [i.e. how is the contractual and/or expected maturity defined? What assumptions eg, in terms of prepayments? etc.] | C10: G.3.4 - The assets are reporting according to their contractual maturity, i.e. the term of the loan as defined in the contracts. No assumptions regarding prepayments are taken for Caisse Française de Financement Local.
A11: HG.1.6 | B11: Maturity Buckets of Covered Bonds [i.e. how is the contractual and/or expected maturity defined? What maturity structure (hard bullet, soft bullet, conditional pass through)? Under what conditions/circumstances? Etc.] | C11: G.3.5 - The covered bonds are reporting according to their contractual maturity, i.e. the term of the bonds as defined in the final terms. Caisse Française de Financement Local's covered bonds are all hard bullet.
A12: HG.1.7 | B12: Hedging Strategy (please explain how you address interest rate and currency risk) | C12: G.3.13 - The policy applied by Caisse Française de Financement Local makes it possible to be protected from interest rate risk because any acquisition of assets or issue of liabilities is systematically hedged in a variable rate from the beginning. There are two steps in the hedging process of interest rate risk. • In the first stage, all the assets and the liabilities benefiting from the privilege which do not naturally have a floating rate are hedged against Euribor until maturity as soon as they are recorded on the balance sheet. In practice, acquisitions of loan portfolios (in which the unit amount is generally small) are usually macro-hedged whereas loans granted individually or bond issues are micro-hedged. Hedging of assets is more often obtained in using interest rate swaps, but the same effect may be obtained whenever possible by the cancelation of liability swaps. • In the second step, Euribor lending and borrowing flows (naturally or after hedges) are swapped against Eonia over a sliding period of generally two years in order to eliminate the basis risk generated by differences in the tenor (Euribor 1, 3, 6 or 12 months) and the fixing risk due to refixing dates based on different reference indices in the assets and the liabilities. Non-privileged debt is not concerned by these hedging operations. In fact, debt contracted by Caisse Française de Financement Local with its shareholder to finance over-collateralization is borrowed either directly with a monetary index and does not need to be swapped, or with a Euribor index and thus finances assets also indexed on Euribor. Short term debt owed the Banque de France with a fixed rate (if any) is not hedged, but also finances fixed rate assets. The sensitivity of residual positions that remain after the first step and after the second level of hedges is monitored carefully and kept within strict limits. Limits on interest rate risk guarantee, with 99% probability, a maximum one year loss of less than EUR 80 million in the event of a change in interest rates of 200 basis point (bp), equivalent to a maximum loss set at EUR 40 million (3% of equity) for a fluctuation in interest rates of 100 bp. This calibration is based on a directional shift in rates corresponding to a 1% probability at one-year decile observed over the period 2005-2013, which was approximately 200 bp. A set of three limits makes it possible to have a grasp of the slope risk, as well as the directional risk. These limits control the sensitivity of the fixed rate risk and together guarantee the maximum losses mentioned above.
A13: HG.1.8 | B13: Non-performing loans | C13: PS.8.9.1 - In this item are reported the arrears on non performing loans from the first day when the missing payments were observed.
A14: OHG.1.1 | B14: Covered Bonds - Breakdown by interest rate | C14: G.3.8 - As a result of Caisse Française de Financement Local's hedging strategies (see HG 1.7), some covered bonds swaps have been canceled in order to hedge fixed rate assets. Thus, no interest risk is undertaken.
A15: OHG.1.2 | B15: Liquid Assets | C15: G.3.11 - Liquid assets include cash deposit in central bank.
A16: OHG.1.3 | B16: Substitute Assets - Type | C16: G.3.9 - As of September 30, 2016, the subsitution assets are composed of short term bank bonds for EUR 900 million and bank accounts' balances (multiple countries) representing EUR 18 million. The bonds have a size superior to EUR 100 million. The bank accounts' balances are net positions which do not exceed EUR 10 million as of September 30, 2016. No past dues were observed on the substition assets as of September 30, 2016.
A17: OHG.1.4 | B17: B.2 Public Sector Assets | C17: Exposure on Treasury and replacement assets are not included in this section. As of 9/30/2016, the current account represented EUR 3,501 million and replacement assets EUR 918 million.
B19: 2. Reason for No Data | C19: Value
A20: HG.2.1 | B20: Not applicable for the jurisdiction | C20: ND1
A21: HG.2.2 | B21: Not relevant for the issuer and/or CB programme at the present time | C21: ND2
A22: HG.2.3 | B22: Not available at the present time | C22: ND3
A23: HG.2.1
A24: OHG.2.1
A25: OHG.2.2
B26: 3. Glossary - Extra national and/or Issuer Items | C26: [Insert Definition Below]
A27: HG.3.1 | B27: Other definitions deemed relevant | C27: [For completion]
A28: OHG.3.1
A29: OHG.3.2
A30: OHG.3.3
A31: OHG.3.4
A32: OHG.3.5
B34: 4. Glossary -Additional French Information | C34: [Insert Definition Below]
A35: OHG.4.1 | B35: 1.4 Tier one ratio (%) (group parent company) | C35: By the credit quality of its assets, combined with its high level of regulatory equity, Caisse Française de Financement Local was able to post a Basel III solvency ratio of 24% as of June 30, 2016, compared to a Basel III solvency ratio of 24% as of December 31, 2015.
A36: OHG.4.2 | B36: 2.3 Liabilities of the covered bond issuer | C36: Caisse Française de Financement Local publishes annual and semi-annual accounts. The total Equity are reported as of June 30,2016.
A37: OHG.4.3 | B37: 3.2 Expected maturity structure of cover pool and covered bonds | C37: A 0% prepayment rate assumption is taken on the cover pool assets maturity. Contractual maturities are legal maturities for covered bonds.
A38: OHG.4.4 | B38: 3.3 Contractual maturity structure of cover pool and covered bonds | C38: Contractual maturities are calculated assuming a zero prepayment scenario on the cover pool assets. Expected maturities are next call date for covered bonds.
A39: OHG.4.5 | B39: 4. PUBLIC SECTOR COVER POOL DATA | C39: Exposure on Treasury and replacement assets are not included in this section. As of 9/30/2016, the current account represented EUR 3,501 million and replacement assets EUR 918 million.
A40: OHG.4.6 | B40: 4. PUBLIC SECTOR COVER POOL DATA | C40: As of September 30, 2016, Caisse Française de Financement Local does not hold asset-backed securities and similar structures in its balance sheet. All these securitizations have been sold on the market or to its parent, SFIL in the beginning of July 2013.
A41: OHG.4.7 | B41: 5. COVERED BONDS | C41: Amounts are provided taking into account FX-swaps.

Sheet Additional French information
B1: ADDITIONAL FRENCH INFORMATION
B3: CB ISSUER | C3: CAISSE FRANCAISE DE FINANCEMENT LOCAL
B4: Reporting date | C4: 9/30/2016
A7: 1 | B7: GROUP LEVEL INFORMATION AND SENIOR UNSECURED RATINGS
A10: 1.1 | B10: Group | E10: SFIL
B11: Group parent company | E11: SFIL
B12: Group consolidated financial information (link) | E12: www.sfil.fr
A15: 1.2 | F15: Rating | G15: Rating Watch | H15: Outlook
B16: Senior unsecured rating (group parent company) | E16: Fitch | F16: AA- | G16: - | H16: -
E17: Moody's | F17: Aa3 | G17: - | H17: -
E18: S&P | F18: AA | G18: - | H18: negative
A21: 1.3 | F21: Rating | G21: Rating watch | H21: Outlook
B22: Covered bond issuer rating (senior unsecured) | E22: Fitch | F22: - | G22: - | H22: -
E23: Moody's | F23: - | G23: - | H23: -
E24: S&P | F24: - | G24: - | H24: -
A27: 1.4 | B27: tier 1 ratio (%) (group parent company) | D27: 0.23372873
C28: as of | D28: 6/30/2016
A31: 2 | B31: COVERED BOND ISSUER OVERVIEW
A34: 2.1 | B34: Covered bonds and cover pool
E36: Total | F36: of which eligible
E37: outstanding | F37: to central bank repo-operations
B38: Cover pool | C38: Public sector exposures | E38: 57938.695
C39: Commercial assets
C40: Residential assets
C41: Substitute assets | E41: 918.248
C42: Total | E42: =SUM(E38:E41) -> 58856.943 | F42: =('A. HTT General'!C217+'A. HTT General'!C218)/E42 -> 0.75620006
B44: Covered bonds | E44: 51054.691
A47: 2.2 | B47: Covered bonds ratings
E49: Rating | F49: Rating Watch | G49: Outlook
B50: Covered bonds rating | D50: Fitch | E50: AA | F50: - | G50: stable
D51: Moody's | E51: Aaa | F51: - | G51: -
D52: S&P | E52: AA+ | F52: - | G52: negative
A55: 2.3 | B55: Liabilities of the covered bond issuer
B57: LIABILITIES | E57: Outstanding
B58: Equity | E58: 1438
B59: Subordinated debt | E59: 0
B60: Other non privileged liabilities | E60: 5269.4209
D61: Total equity and non privileged liabilities | E61: =+SUM(E58:E60) -> 6707.4209
B62: Covered bonds | E62: 51054.691
B63: Other privileged liabilities | E63: 1230.724
...

Sheet Disclaimer
A1: Disclaimer - Important notices
A4: (i) The Product Information displayed on this Site has been uploaded by the Issuers of the relevant Products. None of the information displayed on this Site shall form the basis of any contract. Any User of this Site will be required to acknowledge that it has not relied on, or been induced to enter into any contract by, any representation or warranty.
A5: (ii) The Covered Bond Label Foundation has not independently verified the Product Information displayed on this Site. Accordingly, no representation, warranty or undertaking, express or implied, is made, and no responsibility is accepted, by the Covered Bond Label Foundation as to or in relation to the accuracy or completeness or otherwise of such Product Information."
A6: (iii) The information provided on or accessible through the Site is not intended for distribution to, or use by, any person or entity in any jurisdiction where such distribution or use would be contrary to local law, or which would subject us or any Issuer, to any authorisation, registration or other requirement within such jurisdiction. You agree not to use or export the information or materials available on or through this Site in violation of laws in your jurisdiction.
A8: TERMS OF USE
A9: This website www.coveredbondlabel.com (the "Site") is owned and operated by the Covered Bond Label Foundation (the Covered Bond Label Foundation together with its affiliates, "we" or "us") a Private Foundation (fondation privée / private stichting) registered in Belgium; whose registered office is at Rue de la Science 14 - 1040 Brussels - Belgium and registered under number 500.950.659 (RPR/RPM Brussels).
A10: The Site is intended for use as a directory of information relating to certain covered bond products ("Products") (the "Product Information") by an issuer of ("Issuer"), or potential investor in ("Investor"), such Products (an Issuer, Investor, or any other person accessing this Site, each a "User" or "you"). The Product Information is provided by each relevant Issuer, and remains at all times the sole responsibility of the relevant Issuer. We have not independently verified any Product Information, nor reviewed whether any Product for which information is available on the Site actually is a covered bond product. This Site or any label made available through it does not constitute, nor contain, any form of credit rating, any offer to sell (or the solicitation of an offer to purchase) any Product, nor does it constitute a recommendation, or investment advice (or any other type of advice) upon which reliance should be placed.
A11: These terms and conditions together with the documents referred to in them set out the terms of use ("T&Cs") on which (a) an Issuer; (b) Investor; or (c) any other User, may make use of the Site. Section A applies primarily to Investors, and Section B applies primarily to Issuers. The General T&Cs in Section C apply to all Users.
A12: Our Acceptable Use Policy and Privacy Policy are incorporated into these T&Cs.
A13: Please read the T&Cs carefully before you start to use the Site. By clicking 'Accept' you indicate that you accept these T&Cs and that you agree to abide by them.
A14: If any provision of these T&Cs shall be deemed unlawful, void or for any reason unenforceable, then that provision shall be deemed severable from these terms and shall not affect the validity and enforceability of any remaining provisions.
A16: SECTION A. INVESTOR T&Cs
... A169: If you have any questions about this policy, the collection and use of your personal information or other privacy-specific concerns please contact us by clicking on Contact Us .

Sheet E.g. General

Sheet E.g. Other
